BEGIN:VCALENDAR
VERSION:2.0
PRODID:-//Freunde des Jura-Museums Eichstätt e.V. - ECPv6.15.20//NONSGML v1.0//EN
CALSCALE:GREGORIAN
METHOD:PUBLISH
X-WR-CALNAME:Freunde des Jura-Museums Eichstätt e.V.
X-ORIGINAL-URL:https://foerderverein-juramuseum.de
X-WR-CALDESC:Veranstaltungen für Freunde des Jura-Museums Eichstätt e.V.
REFRESH-INTERVAL;VALUE=DURATION:PT1H
X-Robots-Tag:noindex
X-PUBLISHED-TTL:PT1H
BEGIN:VTIMEZONE
TZID:Europe/Berlin
BEGIN:DAYLIGHT
TZOFFSETFROM:+0100
TZOFFSETTO:+0200
TZNAME:CEST
DTSTART:20250330T010000
END:DAYLIGHT
BEGIN:STANDARD
TZOFFSETFROM:+0200
TZOFFSETTO:+0100
TZNAME:CET
DTSTART:20251026T010000
END:STANDARD
BEGIN:DAYLIGHT
TZOFFSETFROM:+0100
TZOFFSETTO:+0200
TZNAME:CEST
DTSTART:20260329T010000
END:DAYLIGHT
BEGIN:STANDARD
TZOFFSETFROM:+0200
TZOFFSETTO:+0100
TZNAME:CET
DTSTART:20261025T010000
END:STANDARD
BEGIN:DAYLIGHT
TZOFFSETFROM:+0100
TZOFFSETTO:+0200
TZNAME:CEST
DTSTART:20270328T010000
END:DAYLIGHT
BEGIN:STANDARD
TZOFFSETFROM:+0200
TZOFFSETTO:+0100
TZNAME:CET
DTSTART:20271031T010000
END:STANDARD
END:VTIMEZONE
BEGIN:VEVENT
DTSTART;TZID=Europe/Berlin:20260311T190000
DTEND;TZID=Europe/Berlin:20260311T203000
DTSTAMP:20260423T191228
CREATED:20260121T102923Z
LAST-MODIFIED:20260302T080328Z
UID:1954-1773255600-1773261000@foerderverein-juramuseum.de
SUMMARY:Juravenator – eine Reise durch die Fund- und Erforschungsgeschichte des Raubdinosauriers
DESCRIPTION:Juravenator – eine Reise durch die Fund- und Erforschungsgeschichte des Raubdinosauriers. \n\n\n\nFrau PD. Dr. Ursula Göhlich \n\n\n\nDie Wahrscheinlichkeit in Deutschland ein Fossil eines Raubdinosauriers zu finden\, ist extrem gering. Fast genauso gering ist die Chance als Paläontologe oder Paläontologin so einen Sensationsfund dann tatsächlich als erste/r wissenschaftlich untersuchen zu dürfen. Wie so oft\, hat auch der Zufall seine Hand im Spiel. Was waren die ersten Erkenntnisse über Juravenator und was wissen wir heute alles über ihn? Eine Rückschau auf 28 JahreJuravenator-Erforschung. \n\n\n\n\n\n\n\nFoto U. Göhlich mit Mammutknochen: Alice Schumacher (NHMW\, 2024) \n\n\n\n\n\n\n\nFoto Juravenator (Normallicht): Georg Janssen (BSPG\, 2006) \n\n\n\n\n\n\n\nFoto Juravenator (UV-Licht): Dr. Helmut Tischlinger (Stammham\, 2005)
URL:https://foerderverein-juramuseum.de/event/juravenator-eine-reise-durch-die-fund-und-erforschungsgeschichte-des-raubdinosauriers/
LOCATION:Multimediaraum Willibaldsburg\, Burgstr. 19\, Eichstätt\, 85072\, Germany
CATEGORIES:Vortrag
END:VEVENT
END:VCALENDAR